BEGIN:VCALENDAR
VERSION:2.0
PRODID:-//ZContent.net//ZapCalLib 1.0//EN
CALSCALE:GREGORIAN
METHOD:PUBLISH
BEGIN:VEVENT
SUMMARY:Werkstatt Huttenkiez | Ressourcenorientierung, Aktivierung und Bete
 iligung von Nachbarschaft
DTSTART:20260624T183000
DTEND:20260624T213000
UID:2026-04-25-16-17-21-0-@calendar.boell.de
DTSTAMP:20260425T141721
DESCRIPTION:▶ Siehe Veranstaltungsbeschreibung – Berlin – Landesstift
 ung Berlin (Bildungswerk)
END:VEVENT
END:VCALENDAR
