BEGIN:VCALENDAR
VERSION:2.0
PRODID:-//ZContent.net//ZapCalLib 1.0//EN
CALSCALE:GREGORIAN
METHOD:PUBLISH
BEGIN:VEVENT
SUMMARY:Hauptpreisverleihung – DOK.fest München 2026 | mit Filmvorführu
 ng eines Preisträgerfilms
DTSTART:20260516T193000
DTEND:20260516T193010
UID:2026-04-23-17-10-45-0-@calendar.boell.de
DTSTAMP:20260423T151045
DESCRIPTION:München – Petra-Kelly-Stiftung
END:VEVENT
END:VCALENDAR
