BEGIN:VCALENDAR
VERSION:2.0
PRODID:-//ZContent.net//ZapCalLib 1.0//EN
CALSCALE:GREGORIAN
METHOD:PUBLISH
BEGIN:VEVENT
SUMMARY:Demokratie in Gefahr - Neue rechtsextreme Erscheinungsbilder, Strat
 egien und Aktivitäten in der Region | sozialpolitische Reihe des Frauenze
 ntrum Laatzen
DTSTART:20260512T180000
DTEND:20260512T200000
UID:2026-04-22-06-16-20-0-@calendar.boell.de
DTSTAMP:20260422T041620
DESCRIPTION:Laatzen – Stiftung Leben & Umwelt / Heinrich-Böll-Stiftung N
 iedersachsen
END:VEVENT
END:VCALENDAR
