BEGIN:VCALENDAR
VERSION:2.0
PRODID:-//ZContent.net//ZapCalLib 1.0//EN
CALSCALE:GREGORIAN
METHOD:PUBLISH
BEGIN:VEVENT
SUMMARY:Alles im Fluss!? - Wasser in der Krise | Wasserausstellung im Ratha
 us der Stadt Hallenberg
DTSTART:20260507T170000
DTEND:20260625T170000
UID:2026-04-22-03-26-24-0-@calendar.boell.de
DTSTAMP:20260422T012624
DESCRIPTION:▶ Siehe Veranstaltungsbeschreibung – Landesstiftung Nordrhe
 in-Westfalen
END:VEVENT
END:VCALENDAR
