BEGIN:VCALENDAR
VERSION:2.0
PRODID:-//ZContent.net//ZapCalLib 1.0//EN
CALSCALE:GREGORIAN
METHOD:PUBLISH
BEGIN:VEVENT
SUMMARY:Perspektive Ost. Wie gesellschaftliche Utopien Wirklichkeit werden 
 können | Nach dem Demokratie-Dinner ist vor dem Filmabend zur gemeinsamen
  Inspiration | Wittenberg
DTSTART:20260523T191500
DTEND:20260523T204500
UID:2026-04-22-06-31-46-0-@calendar.boell.de
DTSTAMP:20260422T043146
DESCRIPTION:Landesstiftung Sachsen-Anhalt
END:VEVENT
END:VCALENDAR
