BEGIN:VCALENDAR
VERSION:2.0
PRODID:-//ZContent.net//ZapCalLib 1.0//EN
CALSCALE:GREGORIAN
METHOD:PUBLISH
BEGIN:VEVENT
SUMMARY:Regionalreise der Freundinnen und Freunde nach Mecklenburg-Vorpomme
 rn
DTSTART:20260702T170000
DTEND:20260705T150000
UID:2026-04-22-06-31-42-0-@calendar.boell.de
DTSTAMP:20260422T043142
DESCRIPTION:▶ Siehe Veranstaltungsbeschreibung – Rostock – Heinrich-B
 öll-Stiftung - Bundesstiftung Berlin
END:VEVENT
END:VCALENDAR
