BEGIN:VCALENDAR
VERSION:2.0
PRODID:-//ZContent.net//ZapCalLib 1.0//EN
CALSCALE:GREGORIAN
METHOD:PUBLISH
BEGIN:VEVENT
SUMMARY:Lesung & Gespräch „Vatertage" mit Anne Berest
DTSTART:20260604T193000
DTEND:20260604T210000
UID:2026-04-22-04-47-13-0-@calendar.boell.de
DTSTAMP:20260422T024713
DESCRIPTION:▶ Siehe Veranstaltungsbeschreibung – Rostock – Landesstif
 tung Mecklenburg-Vorpommern
END:VEVENT
END:VCALENDAR
