BEGIN:VCALENDAR
VERSION:2.0
PRODID:-//ZContent.net//ZapCalLib 1.0//EN
CALSCALE:GREGORIAN
METHOD:PUBLISH
BEGIN:VEVENT
SUMMARY:Reproduktive Rechte in der Slowakei | Input und Gespräch zu femini
 stischem Aktivismus
DTSTART:20260512T190000
DTEND:20260512T203000
UID:2026-04-22-06-16-21-0-@calendar.boell.de
DTSTAMP:20260422T041621
DESCRIPTION:▶ Siehe Veranstaltungsbeschreibung – Dresden – Landesstif
 tung Sachsen (Weiterdenken)
END:VEVENT
END:VCALENDAR
