BEGIN:VCALENDAR
VERSION:2.0
PRODID:-//ZContent.net//ZapCalLib 1.0//EN
CALSCALE:GREGORIAN
METHOD:PUBLISH
BEGIN:VEVENT
SUMMARY:Outdoor-Ausstellung „Zwischen Erfolg und Verfolgung.  Jüdische S
 tars im deutschen Sport bis 1933 und danach“
DTSTART:20260428T100000
DTEND:20260528T170000
UID:2026-04-22-04-47-14-0-@calendar.boell.de
DTSTAMP:20260422T024714
DESCRIPTION:▶ Siehe Veranstaltungsbeschreibung – Rostock – Landesstif
 tung Mecklenburg-Vorpommern
END:VEVENT
END:VCALENDAR
