BEGIN:VCALENDAR
VERSION:2.0
PRODID:-//ZContent.net//ZapCalLib 1.0//EN
CALSCALE:GREGORIAN
METHOD:PUBLISH
BEGIN:VEVENT
SUMMARY:Jetzt erst recht | Haltung zeigen im Migrationsdiskurs
DTSTART:20260430T090000
DTEND:20260430T120000
UID:2026-04-22-04-49-24-0-@calendar.boell.de
DTSTAMP:20260422T024924
DESCRIPTION:▶ Siehe Veranstaltungsbeschreibung – Hamburg – Landesstif
 tung Hamburg
END:VEVENT
END:VCALENDAR
