BEGIN:VCALENDAR
VERSION:2.0
PRODID:-//ZContent.net//ZapCalLib 1.0//EN
CALSCALE:GREGORIAN
METHOD:PUBLISH
BEGIN:VEVENT
SUMMARY:Nachgefragt – Gespräche mit unseren Auslandsbüros | US-amerikan
 ische Demokratie unter Druck
DTSTART:20260429T160000
DTEND:20260429T160000
UID:2026-04-20-04-58-22-0-@calendar.boell.de
DTSTAMP:20260420T025822
DESCRIPTION:▶ Online-Veranstaltung – 
END:VEVENT
END:VCALENDAR
