BEGIN:VCALENDAR
VERSION:2.0
PRODID:-//ZContent.net//ZapCalLib 1.0//EN
CALSCALE:GREGORIAN
METHOD:PUBLISH
BEGIN:VEVENT
SUMMARY:Grundlagen der Friedenspädagogik für die politische Bildung (ausg
 ebucht/Warteliste) | Wie können wir Frieden lehren und lernen in Zeiten g
 lobaler Krisen?
DTSTART:20260605T123000
DTEND:20260606T180000
UID:2026-04-22-06-19-53-0-@calendar.boell.de
DTSTAMP:20260422T041953
DESCRIPTION:▶ Siehe Veranstaltungsbeschreibung – Köln – Landesstiftu
 ng Nordrhein-Westfalen
END:VEVENT
END:VCALENDAR
