BEGIN:VCALENDAR
VERSION:2.0
PRODID:-//ZContent.net//ZapCalLib 1.0//EN
CALSCALE:GREGORIAN
METHOD:PUBLISH
BEGIN:VEVENT
SUMMARY:Sichtbarkeit und Sicherheit | Die Auswirkungen rechter Gegenmobilis
 ierungen auf Pride-Teilnehmende in Sachsen 
DTSTART:20260508T183000
DTEND:20260508T200000
UID:2026-04-21-14-01-07-0-@calendar.boell.de
DTSTAMP:20260421T120107
DESCRIPTION:▶ Siehe Veranstaltungsbeschreibung – Pirna – Landesstiftu
 ng Sachsen (Weiterdenken)
END:VEVENT
END:VCALENDAR
