BEGIN:VCALENDAR
VERSION:2.0
PRODID:-//ZContent.net//ZapCalLib 1.0//EN
CALSCALE:GREGORIAN
METHOD:PUBLISH
BEGIN:VEVENT
SUMMARY:Recht auf gerecht!  | #3 Warum stößt Klimaprotest so oft auf Able
 hnung?
DTSTART:20261110T183000
DTEND:20261110T200000
UID:2026-04-19-22-58-47-0-@calendar.boell.de
DTSTAMP:20260419T205847
DESCRIPTION:München – Petra-Kelly-Stiftung
END:VEVENT
END:VCALENDAR
