BEGIN:VCALENDAR
VERSION:2.0
PRODID:-//ZContent.net//ZapCalLib 1.0//EN
CALSCALE:GREGORIAN
METHOD:PUBLISH
BEGIN:VEVENT
SUMMARY:Recht auf gerecht!  | #1 Wer zahlt für die Klimakrise und wer veru
 rsacht sie?
DTSTART:20260420T183000
DTEND:20260420T200000
UID:2026-04-19-23-04-10-0-@calendar.boell.de
DTSTAMP:20260419T210410
DESCRIPTION:München – Petra-Kelly-Stiftung
END:VEVENT
END:VCALENDAR
