BEGIN:VCALENDAR
VERSION:2.0
PRODID:-//ZContent.net//ZapCalLib 1.0//EN
CALSCALE:GREGORIAN
METHOD:PUBLISH
BEGIN:VEVENT
SUMMARY:GreenCampus Online-Weiterbildung: Teamentwicklung effektiv gestalte
 n- Skills für die Teamleitung von morgen (Warteliste)
DTSTART:20250904T170000
DTEND:20250904T183000
UID:2026-04-25-13-12-17-0-@calendar.boell.de
DTSTAMP:20260425T111217
DESCRIPTION:▶ Online-Veranstaltung – GreenCampus
END:VEVENT
END:VCALENDAR
