BEGIN:VCALENDAR
VERSION:2.0
PRODID:-//ZContent.net//ZapCalLib 1.0//EN
CALSCALE:GREGORIAN
METHOD:PUBLISH
BEGIN:VEVENT
SUMMARY:(ausgebucht): Sicher und konstruktiv bei Konflikten  | aus der Reih
 e Fit for Politics
DTSTART:20240918T160000
DTEND:20240918T200000
UID:2026-04-22-19-05-26-0-@calendar.boell.de
DTSTAMP:20260422T170526
DESCRIPTION:▶ Siehe Veranstaltungsbeschreibung – Stiftung Leben & Umwel
 t / Heinrich-Böll-Stiftung Niedersachsen
END:VEVENT
END:VCALENDAR
