BEGIN:VCALENDAR
VERSION:2.0
PRODID:-//ZContent.net//ZapCalLib 1.0//EN
CALSCALE:GREGORIAN
METHOD:PUBLISH
BEGIN:VEVENT
SUMMARY:Zwischen Diskriminierung und Empowerment  | Sinti* und Roma* in Ham
 burg
DTSTART:20230417T090000
DTEND:20230421T160000
UID:2026-04-22-09-48-53-0-@calendar.boell.de
DTSTAMP:20260422T074853
DESCRIPTION:▶ Siehe Veranstaltungsbeschreibung – Hamburg – Landesstif
 tung Hamburg
END:VEVENT
END:VCALENDAR
