BEGIN:VCALENDAR
VERSION:2.0
PRODID:-//ZContent.net//ZapCalLib 1.0//EN
CALSCALE:GREGORIAN
METHOD:PUBLISH
BEGIN:VEVENT
SUMMARY:„Power von der Eastside! DT64 – Das Jugendradio und seine Beweg
 ung“  | Talk: Sounds des Nordens 
DTSTART:20221111T190000
DTEND:20221111T203000
UID:2026-04-19-14-59-10-0-@calendar.boell.de
DTSTAMP:20260419T125910
DESCRIPTION:▶ Siehe Veranstaltungsbeschreibung – Rostock – Landesstif
 tung Mecklenburg-Vorpommern
END:VEVENT
END:VCALENDAR
