BEGIN:VCALENDAR
VERSION:2.0
PRODID:-//ZContent.net//ZapCalLib 1.0//EN
CALSCALE:GREGORIAN
METHOD:PUBLISH
BEGIN:VEVENT
SUMMARY:Grenzgänge West (1 Platz kurzfristig frei geworden) | Grenzen übe
 rtreten, Natur und Geschichte erfahren, die europäische Idee erleben.
DTSTART:20230911T000000
DTEND:20230915T235900
UID:2026-04-25-03-03-51-0-@calendar.boell.de
DTSTAMP:20260425T010351
DESCRIPTION:▶ Siehe Veranstaltungsbeschreibung – Landesstiftung Nordrhe
 in-Westfalen
END:VEVENT
END:VCALENDAR
