BEGIN:VCALENDAR
VERSION:2.0
PRODID:-//ZContent.net//ZapCalLib 1.0//EN
CALSCALE:GREGORIAN
METHOD:PUBLISH
BEGIN:VEVENT
SUMMARY:Grüne Fakten - Ausstellung in Magdeburg
DTSTART:20220603T150000
DTEND:20220630T190000
UID:2026-04-22-20-11-03-0-@calendar.boell.de
DTSTAMP:20260422T181103
DESCRIPTION:▶ Siehe Veranstaltungsbeschreibung – Landesstiftung Sachsen
 -Anhalt
END:VEVENT
END:VCALENDAR
