BEGIN:VCALENDAR
VERSION:2.0
PRODID:-//ZContent.net//ZapCalLib 1.0//EN
CALSCALE:GREGORIAN
METHOD:PUBLISH
BEGIN:VEVENT
SUMMARY:Menschenrechte in Mexiko   | Eine Halbzeitbilanz der Regierung Lóp
 ez Obrador
DTSTART:20220331T170000
DTEND:20220401T204500
UID:2026-04-25-12-19-30-0-@calendar.boell.de
DTSTAMP:20260425T101930
DESCRIPTION:▶ Online-Veranstaltung – Heinrich-Böll-Stiftung - Bundesst
 iftung Berlin
END:VEVENT
BEGIN:VEVENT
SUMMARY:Menschenrechte in Mexiko   | Eine Halbzeitbilanz der Regierung Lóp
 ez Obrador
DTSTART:20220331T170000
DTEND:20220331T203000
UID:2026-04-25-10-19-30-1-@calendar.boell.de
DTSTAMP:20260425T101930
DESCRIPTION:▶ Online-Veranstaltung – Heinrich-Böll-Stiftung - Bundesst
 iftung Berlin
END:VEVENT
BEGIN:VEVENT
SUMMARY:Menschenrechte in Mexiko   | Eine Halbzeitbilanz der Regierung Lóp
 ez Obrador
DTSTART:20220401T163000
DTEND:20220401T204500
UID:2026-04-25-10-19-30-2-@calendar.boell.de
DTSTAMP:20260425T101930
DESCRIPTION:▶ Online-Veranstaltung – Heinrich-Böll-Stiftung - Bundesst
 iftung Berlin
END:VEVENT
END:VCALENDAR
