BEGIN:VCALENDAR
VERSION:2.0
PRODID:-//ZContent.net//ZapCalLib 1.0//EN
CALSCALE:GREGORIAN
METHOD:PUBLISH
BEGIN:VEVENT
SUMMARY:Schlaglicht: Wie schreibe ich eine überzeugende Rede? (ausgebucht/
 Warteliste) | Von der Idee zum Skript.
DTSTART:20220215T090000
DTEND:20220215T123000
UID:2026-04-20-17-27-40-0-@calendar.boell.de
DTSTAMP:20260420T152740
DESCRIPTION:▶ Siehe Veranstaltungsbeschreibung – Landesstiftung Nordrhe
 in-Westfalen
END:VEVENT
END:VCALENDAR
