BEGIN:VCALENDAR
VERSION:2.0
PRODID:-//ZContent.net//ZapCalLib 1.0//EN
CALSCALE:GREGORIAN
METHOD:PUBLISH
BEGIN:VEVENT
SUMMARY:Schlaglicht: Wie behalte ich meine Stimme unter Kontrolle? | Richti
 g sprechen können.
DTSTART:20220207T130000
DTEND:20220207T163000
UID:2026-04-20-17-38-55-0-@calendar.boell.de
DTSTAMP:20260420T153855
DESCRIPTION:▶ Siehe Veranstaltungsbeschreibung – Landesstiftung Nordrhe
 in-Westfalen
END:VEVENT
END:VCALENDAR
