BEGIN:VCALENDAR
VERSION:2.0
PRODID:-//ZContent.net//ZapCalLib 1.0//EN
CALSCALE:GREGORIAN
METHOD:PUBLISH
BEGIN:VEVENT
SUMMARY:Schlaglicht: Wie nutze ich Instagram richtig? | #instagramable werd
 en
DTSTART:20220202T090000
DTEND:20220202T123000
UID:2026-04-20-17-39-42-0-@calendar.boell.de
DTSTAMP:20260420T153942
DESCRIPTION:▶ Siehe Veranstaltungsbeschreibung – Landesstiftung Nordrhe
 in-Westfalen
END:VEVENT
END:VCALENDAR
