BEGIN:VCALENDAR
VERSION:2.0
PRODID:-//ZContent.net//ZapCalLib 1.0//EN
CALSCALE:GREGORIAN
METHOD:PUBLISH
BEGIN:VEVENT
SUMMARY:Online-Seminar: Überzeugend Argumentieren (ausgebucht/Warteliste) 
 | Eine Online-Veranstaltung in Zusammenarbeit mit ProArgument
DTSTART:20220205T090000
DTEND:20220205T170000
UID:2026-04-20-17-35-37-0-@calendar.boell.de
DTSTAMP:20260420T153537
DESCRIPTION:▶ Siehe Veranstaltungsbeschreibung – Landesstiftung Nordrhe
 in-Westfalen
END:VEVENT
END:VCALENDAR
