BEGIN:VCALENDAR
VERSION:2.0
PRODID:-//ZContent.net//ZapCalLib 1.0//EN
CALSCALE:GREGORIAN
METHOD:PUBLISH
BEGIN:VEVENT
SUMMARY:Naturliebe und Menschenhass | Völkische Siedler*innen in Bayern
DTSTART:20211206T180000
DTEND:20211206T180000
UID:2026-04-20-16-06-19-0-@calendar.boell.de
DTSTAMP:20260420T140619
DESCRIPTION:▶ Online-Veranstaltung – Petra-Kelly-Stiftung
END:VEVENT
END:VCALENDAR
