BEGIN:VCALENDAR
VERSION:2.0
PRODID:-//ZContent.net//ZapCalLib 1.0//EN
CALSCALE:GREGORIAN
METHOD:PUBLISH
BEGIN:VEVENT
SUMMARY:AUSGEBUCHT! Social Media für Engagierte - Facebook und Instagram
DTSTART:20220205T100000
DTEND:20220205T150000
UID:2026-04-20-17-39-57-0-@calendar.boell.de
DTSTAMP:20260420T153957
DESCRIPTION:▶ Online-Veranstaltung – Landesstiftung Sachsen-Anhalt
END:VEVENT
END:VCALENDAR
